BEGIN:VCALENDAR
VERSION:2.0
PRODID:spatie/icalendar-generator
DESCRIPTION:Events from Bolton Free Library
X-WR-CALDESC:Events from Bolton Free Library
REFRESH-INTERVAL;VALUE=DURATION:PT1440M
X-PUBLISHED-TTL:PT1440M
BEGIN:VTIMEZONE
TZID:America/New_York
BEGIN:DAYLIGHT
DTSTART:20250309T020000Z
TZOFFSETFROM:-0500
TZOFFSETTO:-0400
END:DAYLIGHT
BEGIN:STANDARD
DTSTART:20251102T020000Z
TZOFFSETFROM:-0400
TZOFFSETTO:-0500
END:STANDARD
BEGIN:DAYLIGHT
DTSTART:20260308T020000Z
TZOFFSETFROM:-0500
TZOFFSETTO:-0400
END:DAYLIGHT
END:VTIMEZONE
BEGIN:VTIMEZONE
TZID:UTC
BEGIN:STANDARD
DTSTART:20250724T103759Z
TZOFFSETFROM:+0000
TZOFFSETTO:+0000
END:STANDARD
END:VTIMEZONE
BEGIN:VEVENT
UID:2309-1019
DTSTAMP:20260420T103759Z
SUMMARY:The Wild Center
LOCATION:The Wild Center
ORGANIZER;CN=admin:MAILTO:jason@sals.edu
DTSTART;TZID=America/New_York:20251108T100000
DTEND;TZID=America/New_York:20251108T170000
X-ALT-DESC;FMTTYPE=TEXT/HTML:Reservations recommended: The Wild Center In 
 honor of Veteran's Day\, The Wild Center will open our doors to our commun
 ity\, free of charge\, on November 8. Now is the perfect time to experienc
 e The Wild Center. All visitors are welcome to curate their Wild Center ex
 perience by exploring Wild Walk\, Stickwork\, Raquette River Roll\, Forest
  Music&amp;hellip\;
CATEGORIES:more than 1 hour
URL;VALUE=URI:https://boltonfreelibrary.org/mc-events/the-wild-center/
METHOD:PUBLISH
END:VEVENT
END:VCALENDAR