BEGIN:VCALENDAR
VERSION:2.0
PRODID:spatie/icalendar-generator
DESCRIPTION:Events from Bolton Free Library
X-WR-CALDESC:Events from Bolton Free Library
REFRESH-INTERVAL;VALUE=DURATION:PT1440M
X-PUBLISHED-TTL:PT1440M
BEGIN:VTIMEZONE
TZID:America/New_York
BEGIN:STANDARD
DTSTART:20241103T020000Z
TZOFFSETFROM:-0400
TZOFFSETTO:-0500
END:STANDARD
BEGIN:DAYLIGHT
DTSTART:20250309T020000Z
TZOFFSETFROM:-0500
TZOFFSETTO:-0400
END:DAYLIGHT
BEGIN:STANDARD
DTSTART:20251102T020000Z
TZOFFSETFROM:-0400
TZOFFSETTO:-0500
END:STANDARD
END:VTIMEZONE
BEGIN:VTIMEZONE
TZID:UTC
BEGIN:STANDARD
DTSTART:20250725T082238Z
TZOFFSETFROM:+0000
TZOFFSETTO:+0000
END:STANDARD
END:VTIMEZONE
BEGIN:VEVENT
UID:1250-402
DTSTAMP:20260421T082238Z
SUMMARY:Music and Memory
LOCATION:The Conkling Center
ORGANIZER;CN=admin:MAILTO:jason@sals.edu
DTSTART;TZID=America/New_York:20250626T130000
DTEND;TZID=America/New_York:20250626T140000
X-ALT-DESC;FMTTYPE=TEXT/HTML:Registration required: The Conkling Center The
  impact of music on the brain can be profound. It can activate multiple pa
 rts of the brain simultaneously and can enhance language skills. Join us a
 s we experience the joy of live music and learn about how music activates 
 the hippocampus and the amygdala of the brain and in&amp;hellip\;
CATEGORIES:20-40 minutes
URL;VALUE=URI:https://boltonfreelibrary.org/mc-events/music-and-memory/
METHOD:PUBLISH
END:VEVENT
END:VCALENDAR