BEGIN:VCALENDAR
VERSION:2.0
PRODID:spatie/icalendar-generator
DESCRIPTION:Events from Bolton Free Library
X-WR-CALDESC:Events from Bolton Free Library
REFRESH-INTERVAL;VALUE=DURATION:PT1440M
X-PUBLISHED-TTL:PT1440M
BEGIN:VTIMEZONE
TZID:America/New_York
BEGIN:STANDARD
DTSTART:20251102T020000Z
TZOFFSETFROM:-0400
TZOFFSETTO:-0500
END:STANDARD
BEGIN:DAYLIGHT
DTSTART:20260308T020000Z
TZOFFSETFROM:-0500
TZOFFSETTO:-0400
END:DAYLIGHT
BEGIN:STANDARD
DTSTART:20261101T020000Z
TZOFFSETFROM:-0400
TZOFFSETTO:-0500
END:STANDARD
END:VTIMEZONE
BEGIN:VTIMEZONE
TZID:UTC
BEGIN:STANDARD
DTSTART:20250726T083124Z
TZOFFSETFROM:+0000
TZOFFSETTO:+0000
END:STANDARD
END:VTIMEZONE
BEGIN:VEVENT
UID:4079-521
DTSTAMP:20260422T083124Z
SUMMARY:Learning About Civil Service
LOCATION:Warren County Career Center
ORGANIZER;CN=admin:MAILTO:jason@sals.edu
RRULE:FREQ=MONTHLY;BYDAY=2WE;UNTIL=20270102T000000Z
DTSTART;TZID=America/New_York:20260513T103000
DTEND;TZID=America/New_York:20260513T113000
X-ALT-DESC;FMTTYPE=TEXT/HTML:Registration required: Warren County Career C
 enter Learning About Civil Service &amp;nbsp\;
CATEGORIES:Virtual
URL;VALUE=URI:https://boltonfreelibrary.org/mc-events/learning-about-civil-
 service/?mc_id=4079
METHOD:PUBLISH
END:VEVENT
END:VCALENDAR